BEGIN:VCALENDAR
VERSION:2.0
PRODID:www.gruene-bergischgladbach.de
METHOD:PUBLISH
BEGIN:VTIMEZONE
TZID:Europe/Berlin
X-LIC-LOCATION:Europe/Berlin
BEGIN:DAYLIGHT
TZOFFSETFROM:+0100
TZOFFSETTO:+0200
TZNAME:CEST
DTSTART:19700329T020000
RRULE:FREQ=YEARLY;INTERVAL=1;BYDAY=-1SU;BYMONTH=3
END:DAYLIGHT
BEGIN:STANDARD
TZOFFSETFROM:+0200
TZOFFSETTO:+0100
TZNAME:CET
DTSTART:19701025T030000
RRULE:FREQ=YEARLY;INTERVAL=1;BYDAY=-1SU;BYMONTH=10
END:STANDARD
END:VTIMEZONE
BEGIN:VEVENT
UID:0f1a41b365d18b7479f4de37cdbd1014@www.gruene-bergischgladbach.de
URL;VALUE=URI:https://www.gruene-bergischgladbach.de/termine/ag-umwelt-kl
 ima/
LOCATION:Grüner Treff, Paffrather Straße 84, 51465 Bergisch Gladbach
SUMMARY:AG Umwelt & Klima
DESCRIPTION;ALTREP="data:text/html,%0A%3Cp%3EDie%20AG%20trifft%20sich%20a
 m%2015.08.%20um%2019%3A30%20Uhr%20im%20Gr%C3%BCnen%20Treff.%3C%2Fp%3E%0A"
 :Die AG trifft sich am 15.08. um 19:30 Uhr im Grünen Treff.
CLASS:PUBLIC
DTSTART;TZID=Europe/Berlin:20240815T193000
DTEND;TZID=Europe/Berlin:20240815T203000
DTSTAMP:20260421T101810
END:VEVENT
END:VCALENDAR