BEGIN:VCALENDAR
VERSION:2.0
PRODID:www.gruene-bergischgladbach.de
METHOD:PUBLISH
BEGIN:VTIMEZONE
TZID:Europe/Berlin
X-LIC-LOCATION:Europe/Berlin
BEGIN:DAYLIGHT
TZOFFSETFROM:+0100
TZOFFSETTO:+0200
TZNAME:CEST
DTSTART:19700329T020000
RRULE:FREQ=YEARLY;INTERVAL=1;BYDAY=-1SU;BYMONTH=3
END:DAYLIGHT
BEGIN:STANDARD
TZOFFSETFROM:+0200
TZOFFSETTO:+0100
TZNAME:CET
DTSTART:19701025T030000
RRULE:FREQ=YEARLY;INTERVAL=1;BYDAY=-1SU;BYMONTH=10
END:STANDARD
END:VTIMEZONE
BEGIN:VEVENT
UID:167989d0d2fc06ce137059f52617eb71@www.gruene-bergischgladbach.de
URL;VALUE=URI:https://www.gruene-bergischgladbach.de/termine/kommunalwahl
 programm-2025/
LOCATION:Bergisch Gladbach
SUMMARY:Kommunalwahlprogramm 2025
DESCRIPTION;ALTREP="data:text/html,%0A%3Cp%3EKick-off%20Veranstaltung%20z
 um%20Prozess%20der%20Erstellung%20des%20Kommunalwahlprogramms%202025%3C%2
 Fp%3E%0A%0A%0A%0A%3Cp%3EWir%20sammeln%20Ideen%20und%20Perspektiven%20f%C3
 %BCr%20ein%20zukunftsf%C3%A4higes%20Bergisch%20Gladbach%21%3Cbr%3E%3Cbr%3
 EAnmeldung%20bei%20unseren%20Wahlkampfmanager%20Marcus%20%3A%20%3Ca%20hre
 f%3D%22mailto%3Amarcus.janke%40gruene-bergischgladbach.de%22%3Emarcus.jan
 ke%40gruene-bergischgladbach.de%3C%2Fa%3E%3C%2Fp%3E%0A%0A%0A%0A%3Cp%3E%3C
 %2Fp%3E%0A":Kick-off Veranstaltung zum Prozess der Erstellung des Kommuna
 lwahlprogramms 2025\n\nWir sammeln Ideen und Perspektiven für ein zukunf
 tsfähiges Bergisch Gladbach!Anmeldung bei unseren Wahlkampfmanager Marcu
 s : marcus.janke@gruene-bergischgladbach.de
CLASS:PUBLIC
DTSTART;TZID=Europe/Berlin:20241102T150000
DTEND;TZID=Europe/Berlin:20241102T180000
DTSTAMP:20260420T102336
END:VEVENT
END:VCALENDAR