BEGIN:VCALENDAR
VERSION:2.0
PRODID:www.gruene-bergischgladbach.de
METHOD:PUBLISH
BEGIN:VTIMEZONE
TZID:Europe/Berlin
X-LIC-LOCATION:Europe/Berlin
BEGIN:DAYLIGHT
TZOFFSETFROM:+0100
TZOFFSETTO:+0200
TZNAME:CEST
DTSTART:19700329T020000
RRULE:FREQ=YEARLY;INTERVAL=1;BYDAY=-1SU;BYMONTH=3
END:DAYLIGHT
BEGIN:STANDARD
TZOFFSETFROM:+0200
TZOFFSETTO:+0100
TZNAME:CET
DTSTART:19701025T030000
RRULE:FREQ=YEARLY;INTERVAL=1;BYDAY=-1SU;BYMONTH=10
END:STANDARD
END:VTIMEZONE
BEGIN:VEVENT
UID:ee2aa704cbcb1b2111775fd3fdb8f5f3@www.gruene-bergischgladbach.de
URL;VALUE=URI:https://www.gruene-bergischgladbach.de/termine/neumitgliede
 rtreffen-2/
LOCATION:Grüner Treff, Paffrather Straße 84, 51465 Bergisch Gladbach
SUMMARY:Treffen für Interessierte und neue Mitglieder
DESCRIPTION;ALTREP="data:text/html,%0A%3Cp%3EUnser%20regelm%C3%A4%C3%9Fig
 es%20Treffen%20f%C3%BCr%20Interessierte%20und%20neue%20Mitglieder%20ist%2
 0daf%C3%BCr%20da%2C%20dass%20ihr%20Eure%20Fragen%20an%20uns%20stellen%20k
 %C3%B6nnt%21%20Wir%20unterhalten%20uns%20%C3%BCber%20aktuelle%20Themen%2C
 %20die%20uns%20momentan%20besch%C3%A4ftigen%2C%20ihr%20bekommt%20einen%20
 Einblick%20in%20die%20verschiedenen%20Bereiche%20unserer%20Parteiarbeit%2
 0und%20es%20gibt%20die%20M%C3%B6glichkeit%2C%20sich%20untereinander%20aus
 zutauschen%20und%20kennenzulernen.%3C%2Fp%3E%0A%0A%0A%0A%3Cp%3EBei%20Frag
 en%20melde%20Dich%20gerne%20bei%20%3Ca%20href%3D%22mailto%3Ainfo%40gruene
 -bergischgladbach.de%22%20data-type%3D%22mailto%22%20data-id%3D%22mailto%
 3Ainfo%40gruene-bergischgladbach.de%22%3EGabriele%3C%2Fa%3E.%3C%2Fp%3E%0A
 ":Unser regelmäßiges Treffen für Interessierte und neue Mitglieder ist
  dafür da\, dass ihr Eure Fragen an uns stellen könnt! Wir unterhalten 
 uns über aktuelle Themen\, die uns momentan beschäftigen\, ihr bekommt 
 einen Einblick in die verschiedenen Bereiche unserer Parteiarbeit und es 
 gibt die Möglichkeit\, sich untereinander auszutauschen und kennenzulern
 en.\n\nBei Fragen melde Dich gerne bei Gabriele.
CLASS:PUBLIC
DTSTART;TZID=Europe/Berlin:20241030T193000
DTEND;TZID=Europe/Berlin:20241030T203000
DTSTAMP:20260421T093014
END:VEVENT
END:VCALENDAR