BEGIN:VCALENDAR
VERSION:2.0
PRODID:www.gruene-bergischgladbach.de
METHOD:PUBLISH
BEGIN:VTIMEZONE
TZID:Europe/Berlin
X-LIC-LOCATION:Europe/Berlin
BEGIN:DAYLIGHT
TZOFFSETFROM:+0100
TZOFFSETTO:+0200
TZNAME:CEST
DTSTART:19700329T020000
RRULE:FREQ=YEARLY;INTERVAL=1;BYDAY=-1SU;BYMONTH=3
END:DAYLIGHT
BEGIN:STANDARD
TZOFFSETFROM:+0200
TZOFFSETTO:+0100
TZNAME:CET
DTSTART:19701025T030000
RRULE:FREQ=YEARLY;INTERVAL=1;BYDAY=-1SU;BYMONTH=10
END:STANDARD
END:VTIMEZONE
BEGIN:VEVENT
UID:d22b171e774eca618d60b8343c171df3@www.gruene-bergischgladbach.de
URL;VALUE=URI:https://www.gruene-bergischgladbach.de/termine/treffen-fuer
 -interessierte-und-neumitglieder/
LOCATION:Bergisch Gladbach, Paffrather Straße 84, Bergisch Gladbach
SUMMARY:Treffen für Interessierte und Neumitglieder
DESCRIPTION;ALTREP="data:text/html,%0A%3Cp%3EKomm%20am%2026.%20August%20z
 u%20unserem%20Treffen%20f%C3%BCr%20Neumitglieder%20und%20Interessierte.%2
 0Das%20Treffen%20wird%20bei%20gutem%20Wetter%20im%20Gr%C3%BCnen%20Treff%2
 0%28Paffrather%20Str.%2084%29%20stattfinden%2C%20sonst%20digital.%20Wenn%
 20du%20teilnehmen%20m%C3%B6chtest%2C%20schreib%20bitte%20eine%20kurze%20M
 ail%20an%20Johanna%20%28johanna.satler%40gruene-bergischgladbach.de%29.%3
 C%2Fp%3E%0A%0A%0A%0A%3Cp%3E%3C%2Fp%3E%0A%0A%0A%0A%3Cfigure%20class%3D%22w
 p-block-image%20size-large%22%3E%3Cimg%20src%3D%22https%3A%2F%2Fwww.gruen
 e-bergischgladbach.de%2Fwp-content%2Fuploads%2F2021%2F08%2FIMG_0011-1200x
 800.jpg%22%20alt%3D%22%22%20class%3D%22wp-image-5117%22%20%2F%3E%3C%2Ffig
 ure%3E%0A":Komm am 26. August zu unserem Treffen für Neumitglieder und I
 nteressierte. Das Treffen wird bei gutem Wetter im Grünen Treff (Paffrat
 her Str. 84) stattfinden\, sonst digital. Wenn du teilnehmen möchtest\, 
 schreib bitte eine kurze Mail an Johanna (johanna.satler@gruene-bergischg
 ladbach.de).
CLASS:PUBLIC
DTSTART;TZID=Europe/Berlin:20210826T200000
DTEND;TZID=Europe/Berlin:20210826T220000
DTSTAMP:20260420T160708
END:VEVENT
END:VCALENDAR