BEGIN:VCALENDAR
VERSION:2.0
PRODID:www.gruene-bergischgladbach.de
METHOD:PUBLISH
BEGIN:VTIMEZONE
TZID:Europe/Berlin
X-LIC-LOCATION:Europe/Berlin
BEGIN:DAYLIGHT
TZOFFSETFROM:+0100
TZOFFSETTO:+0200
TZNAME:CEST
DTSTART:19700329T020000
RRULE:FREQ=YEARLY;INTERVAL=1;BYDAY=-1SU;BYMONTH=3
END:DAYLIGHT
BEGIN:STANDARD
TZOFFSETFROM:+0200
TZOFFSETTO:+0100
TZNAME:CET
DTSTART:19701025T030000
RRULE:FREQ=YEARLY;INTERVAL=1;BYDAY=-1SU;BYMONTH=10
END:STANDARD
END:VTIMEZONE
BEGIN:VEVENT
UID:775306f2c7bc5f0a24f8b1bbe889148c@www.gruene-bergischgladbach.de
URL;VALUE=URI:https://www.gruene-bergischgladbach.de/termine/wahlkampfsta
 nd-refrath-auf-dem-wochenmarkt-3/
LOCATION:
SUMMARY:Wahlkampfstand Refrath
DESCRIPTION;ALTREP="data:text/html,%0A%3Cp%3EStandort%3A%20%20auf%20dem%2
 0Wochenmarkt%3C%2Fp%3E%0A%0A%0A%0A%3Cp%3EWir%20sind%20vor%20Ort%2C%20dami
 t%20ihr%20euch%20informieren%20k%C3%B6nnt%20und%20vielleicht%20gibt%20es%
 20auch%20noch%20das%20ein%20oder%20andere%20Goodie%20f%C3%BCr%20euch.%3C%
 2Fp%3E%0A":Standort:  auf dem Wochenmarkt\n\nWir sind vor Ort\, damit ihr
  euch informieren könnt und vielleicht gibt es auch noch das ein oder an
 dere Goodie für euch.
CLASS:PUBLIC
DTSTART;TZID=Europe/Berlin:20250131T090000
DTEND;TZID=Europe/Berlin:20250131T120000
DTSTAMP:20260420T030110
END:VEVENT
END:VCALENDAR